BEGIN:VCALENDAR
VERSION:2.0
PRODID:-//Tukios.com/
BEGIN:VEVENT
UID:a74d00a9-a512-4877-86ef-26e7edb4eadd@www.sharpfuneralhomes.com
DTSTAMP:20260420T195426Z
DTSTART:20260422T190000Z
DTEND:20260422T230000Z
SUMMARY:Visitation
DESCRIPTION:
URL:https://www.sharpfuneralhomes.com/obituaries/beverly-boyd
LOCATION:Sharp Funeral Home and Cremation Center 6063 Fenton Road  Grand 
	Blanc MI 48507
GEO:42.9425761;-83.6913643
END:VEVENT
END:VCALENDAR