BEGIN:VCALENDAR
VERSION:2.0
PRODID:-//Tukios.com/
BEGIN:VEVENT
UID:14c26144-4d07-4d16-a4fa-9f64c1bbba15@www.sharpfuneralhomes.com
DTSTAMP:20260420T195315Z
DTSTART:20260423T150000Z
DTEND:20260423T160000Z
SUMMARY:Funeral Service
DESCRIPTION:
URL:https://www.sharpfuneralhomes.com/obituaries/beverly-boyd
LOCATION:Holy Spirit Lutheran Church 7234 Fenton Rd  Grand Blanc MI 48439
GEO:42.9238498;-83.6927105
END:VEVENT
END:VCALENDAR