BEGIN:VCALENDAR
VERSION:2.0
PRODID:-//Tukios.com/
BEGIN:VEVENT
UID:f76b8d0a-27f1-4263-9f12-09aafc07ff80@www.sharpfuneralhomes.com
DTSTAMP:20260423T002642Z
DTSTART:20260426T140000Z
DTEND:20260426T160000Z
SUMMARY:Visitation
DESCRIPTION:
URL:https://www.sharpfuneralhomes.com/obituaries/byron-baker
LOCATION:Sharp Funeral Homes- Miller Road Chapel 8138 Miller Road  Swartz 
	Creek MI 48473
GEO:42.9574255;-83.8357843
END:VEVENT
END:VCALENDAR