BEGIN:VCALENDAR
VERSION:2.0
PRODID:-//Tukios.com/
BEGIN:VEVENT
UID:89f90a12-7b62-4d78-9cc7-c8cc6f514550@www.sharpfuneralhomes.com
DTSTAMP:20260423T002642Z
DTSTART:20260426T160000Z
DTEND:20260426T170000Z
SUMMARY:Funeral Service
DESCRIPTION:
URL:https://www.sharpfuneralhomes.com/obituaries/byron-baker
LOCATION:Sharp Funeral Homes- Miller Road Chapel 8138 Miller Road  Swartz 
	Creek MI 48473
GEO:42.9574255;-83.8357843
END:VEVENT
END:VCALENDAR