BEGIN:VCALENDAR
VERSION:2.0
PRODID:-//Tukios.com/
BEGIN:VEVENT
UID:d789d07a-e437-4b37-a260-631e1d52e928@www.sharpfuneralhomes.com
DTSTAMP:20260420T221633Z
DTSTART:20260423T150000Z
DTEND:20260423T210000Z
SUMMARY:Visitation
DESCRIPTION:
URL:https://www.sharpfuneralhomes.com/obituaries/darryl-kittell
LOCATION: 8138 Miller Rd  Swartz Creek MI 48473
GEO:42.9574255;-83.8357843
END:VEVENT
END:VCALENDAR