BEGIN:VCALENDAR
VERSION:2.0
PRODID:-//Tukios.com/
BEGIN:VEVENT
UID:5eb32a7b-adf2-4dd8-8db7-dd8e5dfb2901@www.sharpfuneralhomes.com
DTSTAMP:20260420T221956Z
DTSTART:20260423T210000Z
DTEND:20260423T220000Z
SUMMARY:Funeral Service
DESCRIPTION:
URL:https://www.sharpfuneralhomes.com/obituaries/darryl-kittell
LOCATION: 8138 Miller Rd  Swartz Creek MI 48473
GEO:42.9574255;-83.8357843
END:VEVENT
END:VCALENDAR