BEGIN:VCALENDAR
VERSION:2.0
PRODID:-//Tukios.com/
BEGIN:VEVENT
UID:05b4aca7-b2a6-409b-b887-0f4ddc75586d@www.sharpfuneralhomes.com
DTSTAMP:20260424T000023Z
DTSTART:20260426T180000Z
DTEND:20260426T220000Z
SUMMARY:Celebration of Life
DESCRIPTION:
URL:https://www.sharpfuneralhomes.com/obituaries/dawn-evans
LOCATION: 5240 S New Lothrop Rd  Durand MI 48429
GEO:42.9233416;-83.9696029
END:VEVENT
END:VCALENDAR