BEGIN:VCALENDAR
VERSION:2.0
PRODID:-//Tukios.com/
BEGIN:VEVENT
UID:714efbf7-302a-4de4-a1a4-3bc6a35950ff@www.sharpfuneralhomes.com
DTSTAMP:20260421T175217Z
DTSTART:20260506T140000Z
DTEND:20260506T150000Z
SUMMARY:Visitation
DESCRIPTION:
URL:https://www.sharpfuneralhomes.com/obituaries/holly-sutton
LOCATION: 10235 White Lake Rd  Fenton MI 48430
GEO:42.7711614;-83.7586096
END:VEVENT
END:VCALENDAR