BEGIN:VCALENDAR
VERSION:2.0
PRODID:-//Tukios.com/
BEGIN:VEVENT
UID:47cfede3-5ca1-46e9-a15a-0ec2f5bb3253@www.sharpfuneralhomes.com
DTSTAMP:20260421T175504Z
DTSTART:20260506T150000Z
DTEND:20260506T160000Z
SUMMARY:Memorial Service
DESCRIPTION:
URL:https://www.sharpfuneralhomes.com/obituaries/holly-sutton
LOCATION: 10235 White Lake Rd  Fenton MI 48430
GEO:42.7711614;-83.7586096
END:VEVENT
END:VCALENDAR