BEGIN:VCALENDAR
VERSION:2.0
PRODID:-//Tukios.com/
BEGIN:VEVENT
UID:d5022b22-fecf-4197-a12d-8e045badfa9c@www.sharpfuneralhomes.com
DTSTAMP:20260420T010342Z
DTSTART:20260423T140000Z
DTEND:20260423T160000Z
SUMMARY:Visitation
DESCRIPTION:
URL:https://www.sharpfuneralhomes.com/obituaries/ila-jean-gibbs
LOCATION:Sharp Funeral Homes, Linden Chapel 209 East Broad Street  Linden 
	MI 48451
GEO:42.815095;-83.7803541
END:VEVENT
END:VCALENDAR