BEGIN:VCALENDAR
VERSION:2.0
PRODID:-//Tukios.com/
BEGIN:VEVENT
UID:4e9b83b2-dc18-4658-bbd7-a807651a974e@www.sharpfuneralhomes.com
DTSTAMP:20260420T010911Z
DTSTART:20260423T160000Z
DTEND:20260423T170000Z
SUMMARY:Funeral Service
DESCRIPTION:
URL:https://www.sharpfuneralhomes.com/obituaries/ila-jean-gibbs
LOCATION:Sharp Funeral Homes, Linden Chapel 209 East Broad Street  Linden 
	MI 48451
GEO:42.815095;-83.7803541
END:VEVENT
END:VCALENDAR