BEGIN:VCALENDAR
VERSION:2.0
PRODID:-//Tukios.com/
BEGIN:VEVENT
UID:ba9eaf1a-0ded-489c-88a1-3b983282861c@www.sharpfuneralhomes.com
DTSTAMP:20260419T201930Z
DTSTART:20260429T170000Z
DTEND:20260429T180000Z
SUMMARY:Funeral Service
DESCRIPTION:
URL:https://www.sharpfuneralhomes.com/obituaries/marilyn-winkens
LOCATION:Great Lakes National Cemetery 4200 Belford Rd  Holly MI 48442
GEO:42.858615;-83.62248
END:VEVENT
END:VCALENDAR