BEGIN:VCALENDAR
VERSION:2.0
PRODID:-//Tukios.com/
BEGIN:VEVENT
UID:4772e91e-ec0c-4f56-94bb-79c21b643b44@www.sharpfuneralhomes.com
DTSTAMP:20260420T080806Z
DTSTART:20260416T200000Z
DTEND:20260417T000000Z
SUMMARY:Visitation
DESCRIPTION:
URL:https://www.sharpfuneralhomes.com/obituaries/ronald-chittick
LOCATION: 1000 Silver Lake Road  Fenton MI 48430
GEO:42.8011014;-83.7202041
END:VEVENT
END:VCALENDAR