BEGIN:VCALENDAR
VERSION:2.0
PRODID:-//Tukios.com/
BEGIN:VEVENT
UID:d8c9d307-9e13-4ee3-9f42-5bada307f24e@www.sharpfuneralhomes.com
DTSTAMP:20260423T220745Z
DTSTART:20260428T140000Z
DTEND:20260428T150000Z
SUMMARY:Visitation
DESCRIPTION:
URL:https://www.sharpfuneralhomes.com/obituaries/suzanne-odonnell-sumey
LOCATION:Sharp Funeral Homes, Linden Chapel 209 East Broad Street  Linden 
	MI 48451
GEO:42.815095;-83.7803541
END:VEVENT
END:VCALENDAR