BEGIN:VCALENDAR
VERSION:2.0
PRODID:-//Tukios.com/
BEGIN:VEVENT
UID:21453ebb-f87d-42bc-986c-272bb4670ec3@www.sharpfuneralhomes.com
DTSTAMP:20260423T220406Z
DTSTART:20260428T150000Z
DTEND:20260428T160000Z
SUMMARY:Funeral Service
DESCRIPTION:
URL:https://www.sharpfuneralhomes.com/obituaries/suzanne-odonnell-sumey
LOCATION:Sharp Funeral Homes, Linden Chapel 209 East Broad Street  Linden 
	MI 48451
GEO:42.815095;-83.7803541
END:VEVENT
END:VCALENDAR