BEGIN:VCALENDAR
VERSION:2.0
PRODID:-//Tukios.com/
BEGIN:VEVENT
UID:26301485-6464-490d-8984-0c8a821745d6@www.sharpfuneralhomes.com
DTSTAMP:20260421T192957Z
DTSTART:20260427T210000Z
DTEND:20260427T220000Z
SUMMARY:Visitation
DESCRIPTION:
URL:https://www.sharpfuneralhomes.com/obituaries/thomas-london
LOCATION: 8138 Miller Rd  Swartz Creek MI 48473
GEO:42.9574255;-83.8357843
END:VEVENT
END:VCALENDAR