BEGIN:VCALENDAR
VERSION:2.0
PRODID:-//Tukios.com/
BEGIN:VEVENT
UID:c984674d-1e38-486c-a4ef-b9e83c2eadef@www.sharpfuneralhomes.com
DTSTAMP:20260421T193507Z
DTSTART:20260427T220000Z
DTEND:20260427T230000Z
SUMMARY:Memorial Service
DESCRIPTION:
URL:https://www.sharpfuneralhomes.com/obituaries/thomas-london
LOCATION: 8138 Miller Rd  Swartz Creek MI 48473
GEO:42.9574255;-83.8357843
END:VEVENT
END:VCALENDAR